BEGIN:VCALENDAR
VERSION:2.0
PRODID:-//Friends of Felines - ECPv4.9.14//NONSGML v1.0//EN
CALSCALE:GREGORIAN
METHOD:PUBLISH
X-WR-CALNAME:Friends of Felines
X-ORIGINAL-URL:https://fofcats.com
X-WR-CALDESC:Events for Friends of Felines
BEGIN:VTIMEZONE
TZID:America/New_York
BEGIN:DAYLIGHT
TZOFFSETFROM:-0500
TZOFFSETTO:-0400
TZNAME:EDT
DTSTART:20250309T070000
END:DAYLIGHT
BEGIN:STANDARD
TZOFFSETFROM:-0400
TZOFFSETTO:-0500
TZNAME:EST
DTSTART:20251102T060000
END:STANDARD
END:VTIMEZONE
BEGIN:VEVENT
DTSTART;TZID=America/New_York:20250715T160000
DTEND;TZID=America/New_York:20250715T190000
DTSTAMP:20260422T205959
CREATED:20250715T194453Z
LAST-MODIFIED:20250715T194453Z
UID:768-1752595200-1752606000@fofcats.com
SUMMARY:Fundraiser dinner at Mexico in Huntingtown
DESCRIPTION:% of food sales for the day go to Friends of felines in Calvert County. \nCome dine with us!  Taco Tuesday \n
URL:https://fofcats.com/event/fundraiser-dinner-at-mexico-in-huntingtown/
END:VEVENT
END:VCALENDAR