BEGIN:VCALENDAR
VERSION:2.0
PRODID:-//Friends of Felines - ECPv4.9.14//NONSGML v1.0//EN
CALSCALE:GREGORIAN
METHOD:PUBLISH
X-WR-CALNAME:Friends of Felines
X-ORIGINAL-URL:https://fofcats.com
X-WR-CALDESC:Events for Friends of Felines
BEGIN:VTIMEZONE
TZID:America/New_York
BEGIN:DAYLIGHT
TZOFFSETFROM:-0500
TZOFFSETTO:-0400
TZNAME:EDT
DTSTART:20250309T070000
END:DAYLIGHT
BEGIN:STANDARD
TZOFFSETFROM:-0400
TZOFFSETTO:-0500
TZNAME:EST
DTSTART:20251102T060000
END:STANDARD
END:VTIMEZONE
BEGIN:VEVENT
DTSTART;TZID=America/New_York:20250208T120000
DTEND;TZID=America/New_York:20250208T170000
DTSTAMP:20260422T060435
CREATED:20241229T005242Z
LAST-MODIFIED:20250208T005840Z
UID:710-1739016000-1739034000@fofcats.com
SUMMARY:Cancelled : Feb 8th  Petco Prince Frederick Adoptions  12pm-5pm
DESCRIPTION:
URL:https://fofcats.com/event/feb-8th-petco-prince-frederick-adoptions-12pm-5pm/
END:VEVENT
END:VCALENDAR