BEGIN:VCALENDAR
VERSION:2.0
PRODID:-//Friends of Felines - ECPv4.9.14//NONSGML v1.0//EN
CALSCALE:GREGORIAN
METHOD:PUBLISH
X-WR-CALNAME:Friends of Felines
X-ORIGINAL-URL:https://fofcats.com
X-WR-CALDESC:Events for Friends of Felines
BEGIN:VTIMEZONE
TZID:America/New_York
BEGIN:DAYLIGHT
TZOFFSETFROM:-0500
TZOFFSETTO:-0400
TZNAME:EDT
DTSTART:20240310T070000
END:DAYLIGHT
BEGIN:STANDARD
TZOFFSETFROM:-0400
TZOFFSETTO:-0500
TZNAME:EST
DTSTART:20241103T060000
END:STANDARD
END:VTIMEZONE
BEGIN:VEVENT
DTSTART;TZID=America/New_York:20240713T120000
DTEND;TZID=America/New_York:20240713T170000
DTSTAMP:20260421T142245
CREATED:20240611T233151Z
LAST-MODIFIED:20240611T233716Z
UID:661-1720872000-1720890000@fofcats.com
SUMMARY:Adoptions- July 13th Petco Prince Frederick 12pm-5pm
DESCRIPTION:
URL:https://fofcats.com/event/adoptions-july-13th-petco-prince-frederick-12pm-5pm/
END:VEVENT
END:VCALENDAR