BEGIN:VCALENDAR
VERSION:2.0
PRODID:-//Friends of Felines - ECPv4.9.14//NONSGML v1.0//EN
CALSCALE:GREGORIAN
METHOD:PUBLISH
X-WR-CALNAME:Friends of Felines
X-ORIGINAL-URL:https://fofcats.com
X-WR-CALDESC:Events for Friends of Felines
BEGIN:VTIMEZONE
TZID:America/New_York
BEGIN:DAYLIGHT
TZOFFSETFROM:-0500
TZOFFSETTO:-0400
TZNAME:EDT
DTSTART:20240310T070000
END:DAYLIGHT
BEGIN:STANDARD
TZOFFSETFROM:-0400
TZOFFSETTO:-0500
TZNAME:EST
DTSTART:20241103T060000
END:STANDARD
END:VTIMEZONE
BEGIN:VEVENT
DTSTART;TZID=America/New_York:20240406T080000
DTEND;TZID=America/New_York:20240406T170000
DTSTAMP:20260422T062045
CREATED:20240402T162117Z
LAST-MODIFIED:20240402T162117Z
UID:586-1712390400-1712422800@fofcats.com
SUMMARY:Adoption event- April 6th 12pm-5pm PetSmart in California \,MD
DESCRIPTION:We are throwing a kitten “Shower”.  Kitten season is starting a bit early this year and we will need your help! \nCome in and checkout our information board. Visit with kittens and cats.  Make a item donation or a monetary donation to help us help more kittens and cats. \n
URL:https://fofcats.com/event/adoption-event-april-6th-12pm-5pm-petsmart-in-california-md/
LOCATION:PetSmart – California\, MD\, 45315 Alton Ln Ste 16084\, California\, MD\, 20619\, United States
END:VEVENT
END:VCALENDAR