BEGIN:VCALENDAR
VERSION:2.0
PRODID:-//Friends of Felines - ECPv4.9.14//NONSGML v1.0//EN
CALSCALE:GREGORIAN
METHOD:PUBLISH
X-WR-CALNAME:Friends of Felines
X-ORIGINAL-URL:https://fofcats.com
X-WR-CALDESC:Events for Friends of Felines
BEGIN:VTIMEZONE
TZID:America/New_York
BEGIN:DAYLIGHT
TZOFFSETFROM:-0500
TZOFFSETTO:-0400
TZNAME:EDT
DTSTART:20240310T070000
END:DAYLIGHT
BEGIN:STANDARD
TZOFFSETFROM:-0400
TZOFFSETTO:-0500
TZNAME:EST
DTSTART:20241103T060000
END:STANDARD
END:VTIMEZONE
BEGIN:VEVENT
DTSTART;TZID=America/New_York:20241207T123000
DTEND;TZID=America/New_York:20241207T163000
DTSTAMP:20260421T234508
CREATED:20241206T000941Z
LAST-MODIFIED:20241206T000941Z
UID:700-1733574600-1733589000@fofcats.com
SUMMARY:Adopt-a-thon weekend at Petco Sat Dec 7 and Sunday Dec 8th.  12-4:30pm
DESCRIPTION:Petco in Prince Frederick\, MD \n
URL:https://fofcats.com/event/adopt-a-thon-weekend-at-petco-sat-dec-7-and-sunday-dec-8th-12-430pm/
END:VEVENT
END:VCALENDAR